BEGIN:VCALENDAR
VERSION:2.0
PRODID:-//Birth Control Pharmacist - ECPv6.15.14//NONSGML v1.0//EN
CALSCALE:GREGORIAN
METHOD:PUBLISH
X-WR-CALNAME:Birth Control Pharmacist
X-ORIGINAL-URL:https://birthcontrolpharmacist.com
X-WR-CALDESC:Events for Birth Control Pharmacist
REFRESH-INTERVAL;VALUE=DURATION:PT1H
X-Robots-Tag:noindex
X-PUBLISHED-TTL:PT1H
BEGIN:VTIMEZONE
TZID:America/Los_Angeles
BEGIN:DAYLIGHT
TZOFFSETFROM:-0800
TZOFFSETTO:-0700
TZNAME:PDT
DTSTART:20250309T100000
END:DAYLIGHT
BEGIN:STANDARD
TZOFFSETFROM:-0700
TZOFFSETTO:-0800
TZNAME:PST
DTSTART:20251102T090000
END:STANDARD
BEGIN:DAYLIGHT
TZOFFSETFROM:-0800
TZOFFSETTO:-0700
TZNAME:PDT
DTSTART:20260308T100000
END:DAYLIGHT
BEGIN:STANDARD
TZOFFSETFROM:-0700
TZOFFSETTO:-0800
TZNAME:PST
DTSTART:20261101T090000
END:STANDARD
BEGIN:DAYLIGHT
TZOFFSETFROM:-0800
TZOFFSETTO:-0700
TZNAME:PDT
DTSTART:20270314T100000
END:DAYLIGHT
BEGIN:STANDARD
TZOFFSETFROM:-0700
TZOFFSETTO:-0800
TZNAME:PST
DTSTART:20271107T090000
END:STANDARD
END:VTIMEZONE
BEGIN:VEVENT
DTSTART;TZID=America/Los_Angeles:20260327T161500
DTEND;TZID=America/Los_Angeles:20260327T171500
DTSTAMP:20260420T050457
CREATED:20251218T165139Z
LAST-MODIFIED:20251218T165527Z
UID:28054-1774628100-1774631700@birthcontrolpharmacist.com
SUMMARY:Live Session at APhA 2026
DESCRIPTION:Lights\, Camera\, Access: Contraception Care at the Pharmacy\nRecent policy changes have expanded pharmacists’ ability to provide contraception care\, including prescribing hormonal\, nonhormonal\, and emergency contraceptives. We will discuss the pharmacist’s role in increasing access to over-the-counter and prescription-only contraceptives\, with a focus on pharmacist-prescribing. This session provides pharmacists and pharmacy technicians with the knowledge and tools to implement pharmacy-based contraception care services\, including navigating state-specific policies\, pharmacy workflow and operations\, and utilizing technology. \nLearn more and register at https://aphameeting.pharmacist.com/
URL:https://birthcontrolpharmacist.com/event/live-session-at-apha-2026/
LOCATION:Los Angeles Convention Center\, 1201 S Figueroa St\, Los Angeles\, CA\, 90015\, United States
CATEGORIES:Live Event
END:VEVENT
END:VCALENDAR